BEGIN:VCALENDAR
VERSION:2.0
PRODID:-//Sabre//Sabre VObject 4.5.7//EN
CALSCALE:GREGORIAN
BEGIN:VEVENT
UID:sabre-vobject-a7d5d249-ffce-414f-a921-642e3f007d32
DTSTAMP:20260421T022039Z
SUMMARY:Baring-Wallfahrt 
DESCRIPTION:https://www.katholisch-neuburg.de/baring-wallfahrt_id4270
DTSTART;TZID=Europe/Berlin:20260501T070000
END:VEVENT
END:VCALENDAR
