BEGIN:VCALENDAR
VERSION:2.0
PRODID:-//Sabre//Sabre VObject 4.5.7//EN
CALSCALE:GREGORIAN
BEGIN:VEVENT
UID:sabre-vobject-81cf21cf-4580-44ed-bdec-571c63f36bd6
DTSTAMP:20260420T173048Z
SUMMARY:Kath. Frauenbund: Maiandacht
DESCRIPTION:https://www.katholisch-neuburg.de/kath-frauenbund-maiandacht_id
 4266
DTSTART;TZID=Europe/Berlin:20260505T183000
LOCATION:Maria im Gnadenfeld (Kahlhofkapelle)\, \, 86633 Neuburg
END:VEVENT
END:VCALENDAR
