BEGIN:VCALENDAR
VERSION:2.0
PRODID:-//Sabre//Sabre VObject 4.5.7//EN
CALSCALE:GREGORIAN
BEGIN:VEVENT
UID:sabre-vobject-867a17de-391d-4720-8654-674c77d01067
DTSTAMP:20260421T171539Z
SUMMARY:Jugendtreff - Kolpingjugend
DESCRIPTION:https://www.katholisch-neuburg.de/jugendtreff-kolpingjugend_id4
 189
DTSTART;TZID=Europe/Berlin:20260424T190000
LOCATION:Pfarrheim / Jugendheim Feldkirchen\, \, 86633 Neuburg a d Donau
END:VEVENT
END:VCALENDAR
