BEGIN:VCALENDAR
VERSION:2.0
PRODID:-//Sabre//Sabre VObject 4.5.7//EN
CALSCALE:GREGORIAN
BEGIN:VEVENT
UID:sabre-vobject-8a74ad74-3bcb-49a0-8742-6f65e0fa12a8
DTSTAMP:20260421T172400Z
SUMMARY:Frühlingsaktion
DESCRIPTION:https://www.katholisch-neuburg.de/fruehlingsaktion_id4188
DTSTART;TZID=Europe/Berlin:20260425T150000
DTEND;TZID=Europe/Berlin:20260425T170000
LOCATION:Pfarrsaal St. Peter\, \, 86633 Neuburg
END:VEVENT
END:VCALENDAR
