BEGIN:VCALENDAR
VERSION:2.0
PRODID:-//Sabre//Sabre VObject 4.5.7//EN
CALSCALE:GREGORIAN
BEGIN:VEVENT
UID:sabre-vobject-d466b581-5b2d-4287-9826-e7b361d70475
DTSTAMP:20260422T144958Z
SUMMARY:Adventsbasar im Kloster St. Elisabeth
DESCRIPTION:https://www.katholisch-neuburg.de/adventsbasar-im-kloster-st-el
 isabeth_id4183
DTSTART;TZID=Europe/Berlin:20251122T140000
DTEND;TZID=Europe/Berlin:20251122T170000
LOCATION:Kloster St. Elisabeth
END:VEVENT
END:VCALENDAR
