BEGIN:VCALENDAR
VERSION:2.0
PRODID:-//Sabre//Sabre VObject 4.5.7//EN
CALSCALE:GREGORIAN
BEGIN:VEVENT
UID:sabre-vobject-7af82d61-6e2a-4f36-b040-aa7b99a1cb65
DTSTAMP:20260423T090739Z
SUMMARY:Info-Abend für Eltern der Firmbewerber
DESCRIPTION:https://www.katholisch-neuburg.de/info-abend-fuer-eltern-der-fi
 rmbewerber_id4182
DTSTART;TZID=Europe/Berlin:20251112T190000
LOCATION:Pfarrsaal Heilig Geist\, \, 86633 Neuburg
END:VEVENT
END:VCALENDAR
