BEGIN:VCALENDAR
VERSION:2.0
PRODID:-//Sabre//Sabre VObject 4.5.7//EN
CALSCALE:GREGORIAN
BEGIN:VEVENT
UID:sabre-vobject-d52a5973-0b84-4dc9-9ce1-e8dfdefe201d
DTSTAMP:20260422T093341Z
SUMMARY:Schuberts B-Dur Messe in der Hofkirche
DESCRIPTION:https://www.katholisch-neuburg.de/schuberts-b-dur-messe-in-der-
 hofkirche_id4177
DTSTART;TZID=Europe/Berlin:20251123T190000
LOCATION:Hofkirche\, \, 86633 Neuburg
END:VEVENT
END:VCALENDAR
