BEGIN:VCALENDAR
VERSION:2.0
PRODID:-//Sabre//Sabre VObject 4.5.7//EN
CALSCALE:GREGORIAN
BEGIN:VEVENT
UID:sabre-vobject-acf7b184-7c93-43ed-89c2-2c21eb73911f
DTSTAMP:20260418T083258Z
SUMMARY:Infotreffen Rumänienreise
DESCRIPTION:https://www.katholisch-neuburg.de/infotreffen-rumaenienreise_id
 4176
DTSTART;TZID=Europe/Berlin:20251110T183000
LOCATION:Gemeindesaal der Christuskirche
END:VEVENT
END:VCALENDAR
