BEGIN:VCALENDAR
VERSION:2.0
PRODID:-//Sabre//Sabre VObject 4.5.7//EN
CALSCALE:GREGORIAN
BEGIN:VEVENT
UID:sabre-vobject-959e48ac-7d9f-4ed1-beda-0f7128076aef
DTSTAMP:20260417T224706Z
SUMMARY:Kath. Frauenbund Neuburg: Frauenfrühstück
DESCRIPTION:https://www.katholisch-neuburg.de/kath-frauenbund-neuburg-fraue
 nfruehstueck_id4097
DTSTART;TZID=Europe/Berlin:20251111T090000
LOCATION:Pfarrsaal Heilig Geist\, \, 86633 Neuburg
END:VEVENT
END:VCALENDAR
