BEGIN:VCALENDAR
VERSION:2.0
PRODID:-//Sabre//Sabre VObject 4.5.7//EN
CALSCALE:GREGORIAN
BEGIN:VEVENT
UID:sabre-vobject-7f3da5a2-59f6-4c75-be94-ee2b337d91b8
DTSTAMP:20260422T015450Z
SUMMARY:Fastenpredigt zum Konzil von Nicäa
DESCRIPTION:https://www.katholisch-neuburg.de/fastenpredigt-zum-konzil-von-
 nicaea_id3850
DTSTART;TZID=Europe/Berlin:20250309T170000
LOCATION:Hofkirche\, \, 86633 Neuburg
END:VEVENT
END:VCALENDAR
