BEGIN:VCALENDAR
VERSION:2.0
PRODID:-//Sabre//Sabre VObject 4.5.7//EN
CALSCALE:GREGORIAN
BEGIN:VEVENT
UID:sabre-vobject-639b9b71-efcb-4d71-b927-41ceed681924
DTSTAMP:20260422T142533Z
SUMMARY:Konzert Sehensand
DESCRIPTION:https://www.katholisch-neuburg.de/konzert-sehensand_id3799
DTSTART;TZID=Europe/Berlin:20250223T180000
LOCATION:Pfarrkirche St. Stephanus\, \, 86633 Sehensand
END:VEVENT
END:VCALENDAR
