BEGIN:VCALENDAR
VERSION:2.0
PRODID:-//Sabre//Sabre VObject 4.5.7//EN
CALSCALE:GREGORIAN
BEGIN:VEVENT
UID:sabre-vobject-83fd0207-0095-4f18-baf8-1cc94cc7c022
DTSTAMP:20260422T194103Z
SUMMARY:Vortrag über die Geschichte von St. Leonhard
DESCRIPTION:https://www.katholisch-neuburg.de/vortrag-ueber-die-geschichte-
 von-st-leonhard_id3784
DTSTART;TZID=Europe/Berlin:20250126T150000
LOCATION:Pfarrkirche Mariä Himmelfahrt\, \, 86633 Bittenbrunn
END:VEVENT
END:VCALENDAR
