BEGIN:VCALENDAR
VERSION:2.0
PRODID:-//Sabre//Sabre VObject 4.5.7//EN
CALSCALE:GREGORIAN
BEGIN:VEVENT
UID:sabre-vobject-43ad1594-dbd2-49f0-ad8a-66669d51ee73
DTSTAMP:20260421T074735Z
SUMMARY:Kath. Frauenbund Neuburg: Veronika der Lenz ist da
DESCRIPTION:https://www.katholisch-neuburg.de/kath-frauenbund-neuburg-veron
 ika-der-lenz-ist-da_id3775
DTSTART;TZID=Europe/Berlin:20250204T170000
LOCATION:Pfarrheim / Jugendheim Feldkirchen\, \, 86633 Neuburg a d Donau
END:VEVENT
END:VCALENDAR
