BEGIN:VCALENDAR
VERSION:2.0
PRODID:-//Sabre//Sabre VObject 4.5.7//EN
CALSCALE:GREGORIAN
BEGIN:VEVENT
UID:sabre-vobject-ad92ba69-ce5a-47ae-a3af-dabd8cd22000
DTSTAMP:20260422T213839Z
SUMMARY:Kath. Frauenbund Neuburg: Jahreshauptversammlung
DESCRIPTION:https://www.katholisch-neuburg.de/kath-frauenbund-neuburg-jahre
 shauptversammlung_id3774
DTSTART;TZID=Europe/Berlin:20250121T190000
LOCATION:Pfarrsaal Heilig Geist\, \, 86633 Neuburg
END:VEVENT
END:VCALENDAR
