BEGIN:VCALENDAR
VERSION:2.0
PRODID:-//Sabre//Sabre VObject 4.5.7//EN
CALSCALE:GREGORIAN
BEGIN:VEVENT
UID:sabre-vobject-11fbc41f-0524-4f94-a6f0-c0a3449dfdee
DTSTAMP:20260423T011401Z
SUMMARY:Swinging Christmas mit dem Chor Leuchtfeuer
DESCRIPTION:https://www.katholisch-neuburg.de/swinging-christmas-mit-dem-ch
 or-leuchtfeuer_id3751
DTSTART;TZID=Europe/Berlin:20250105T170000
LOCATION:Hofkirche\, \, 86633 Neuburg
END:VEVENT
END:VCALENDAR
