BEGIN:VCALENDAR
VERSION:2.0
PRODID:-//Sabre//Sabre VObject 4.5.7//EN
CALSCALE:GREGORIAN
BEGIN:VEVENT
UID:sabre-vobject-800e28e3-2c5c-4778-ad6c-1980cd5f608d
DTSTAMP:20260422T232657Z
SUMMARY:Andacht für Senioren
DESCRIPTION:https://www.katholisch-neuburg.de/andacht-fuer-senioren_id3714
DTSTART;TZID=Europe/Berlin:20250115T143000
LOCATION:Pfarrkirche Mariä Himmelfahrt\, \, 86633 Bittenbrunn
END:VEVENT
END:VCALENDAR
