BEGIN:VCALENDAR
VERSION:2.0
PRODID:-//Sabre//Sabre VObject 4.5.7//EN
CALSCALE:GREGORIAN
BEGIN:VEVENT
UID:sabre-vobject-b684dc03-f0df-4475-bdd7-c5f63152a241
DTSTAMP:20260419T131820Z
SUMMARY:Martinsfeier für die Jüngsten
DESCRIPTION:https://www.katholisch-neuburg.de/martinsfeier-fuer-die-juengst
 en_id3672
DTSTART;TZID=Europe/Berlin:20251108T163000
LOCATION:Stadtpfarrkirche Heilig Geist\, \, 86633 Neuburg
END:VEVENT
END:VCALENDAR
