BEGIN:VCALENDAR
VERSION:2.0
PRODID:-//Sabre//Sabre VObject 4.5.7//EN
CALSCALE:GREGORIAN
BEGIN:VEVENT
UID:sabre-vobject-c05f51ee-ec02-4a46-8b4d-d5f472408b67
DTSTAMP:20260423T090736Z
SUMMARY:"Wenn in nicht mehr bin" - Musik und Texte zu Trauer\, Abschied u. 
 Zuversicht
DESCRIPTION:https://www.katholisch-neuburg.de/wenn-in-nicht-mehr-bin-musik-
 und-texte-zu-trauer-abschied-u-zuversicht_id3659
DTSTART;TZID=Europe/Berlin:20241102T180000
LOCATION:Stadtpfarrkirche Heilig Geist\, \, 86633 Neuburg
END:VEVENT
END:VCALENDAR
