BEGIN:VCALENDAR
VERSION:2.0
PRODID:-//Sabre//Sabre VObject 4.5.7//EN
CALSCALE:GREGORIAN
BEGIN:VEVENT
UID:sabre-vobject-89dd5a31-4a72-4d1f-94b4-59acb8381ac5
DTSTAMP:20260423T124658Z
SUMMARY:Kath. Frauenbund Neuburg: Fadenspieler
DESCRIPTION:https://www.katholisch-neuburg.de/kath-frauenbund-neuburg-faden
 spieler_id3645
DTSTART;TZID=Europe/Berlin:20241018T143000
LOCATION:Pfarrsaal St. Peter\, \, 86633 Neuburg
END:VEVENT
END:VCALENDAR
