BEGIN:VCALENDAR
VERSION:2.0
PRODID:-//Sabre//Sabre VObject 4.5.7//EN
CALSCALE:GREGORIAN
BEGIN:VEVENT
UID:sabre-vobject-eee6b629-6e9b-4fcb-aa68-0b5a0ff4b0d8
DTSTAMP:20260422T110609Z
SUMMARY:Abendmesse mit Orgelkonzert
DESCRIPTION:https://www.katholisch-neuburg.de/abendmesse-mit-orgelkonzert_i
 d3531
DTSTART;TZID=Europe/Berlin:20240623T190000
LOCATION:Hofkirche\, \, 86633 Neuburg
END:VEVENT
END:VCALENDAR
