BEGIN:VCALENDAR
VERSION:2.0
PRODID:-//Sabre//Sabre VObject 4.5.7//EN
CALSCALE:GREGORIAN
BEGIN:VEVENT
UID:sabre-vobject-e9930f7f-1949-4793-af7d-b93658ce97fc
DTSTAMP:20260424T085818Z
SUMMARY:Mitsommer-Konzert in Sehensand
DESCRIPTION:https://www.katholisch-neuburg.de/mitsommer-konzert-in-sehensan
 d_id3503
DTSTART;TZID=Europe/Berlin:20240623T180000
LOCATION:Pfarrkirche St. Stephanus\, \, 86633 Sehensand
END:VEVENT
END:VCALENDAR
