BEGIN:VCALENDAR
VERSION:2.0
PRODID:-//Sabre//Sabre VObject 4.5.7//EN
CALSCALE:GREGORIAN
BEGIN:VEVENT
UID:sabre-vobject-d357ddca-7779-442a-9759-bbf8930c48bd
DTSTAMP:20260423T144949Z
SUMMARY:Quellentag bei den Maria-Ward Schwestern
DESCRIPTION:https://www.katholisch-neuburg.de/quellentag-bei-den-maria-ward
 -schwestern_id3400
DTSTART;TZID=Europe/Berlin:20241012T090000
DTEND;TZID=Europe/Berlin:20241012T130000
LOCATION:Maria Ward Kloster\, \, 86633 Neuburg 
END:VEVENT
END:VCALENDAR
