BEGIN:VCALENDAR
VERSION:2.0
PRODID:-//Sabre//Sabre VObject 4.5.7//EN
CALSCALE:GREGORIAN
BEGIN:VEVENT
UID:sabre-vobject-692e0a26-c9d6-4438-9dde-19616dcf2492
DTSTAMP:20260422T091502Z
SUMMARY:Festgottesdienst „Johannes von Gott“
DESCRIPTION:https://www.katholisch-neuburg.de/festgottesdienst-johannes-von
 -gott_id3393
DTSTART;TZID=Europe/Berlin:20240310T100000
LOCATION:St. Augustin\, \, 86633 Neuburg
END:VEVENT
END:VCALENDAR
