BEGIN:VCALENDAR
VERSION:2.0
PRODID:-//Sabre//Sabre VObject 4.5.7//EN
CALSCALE:GREGORIAN
BEGIN:VEVENT
UID:sabre-vobject-c8c53ae1-3633-49dc-ade7-7bfa9f8e33a6
DTSTAMP:20260422T110612Z
SUMMARY:Filmnacht für junge Leute
DESCRIPTION:https://www.katholisch-neuburg.de/filmnacht-fuer-junge-leute_id
 3382
DTSTART;TZID=Europe/Berlin:20240302T180000
LOCATION:Pfarrsaal St. Peter\, \, 86633 Neuburg
END:VEVENT
END:VCALENDAR
