BEGIN:VCALENDAR
VERSION:2.0
PRODID:-//Sabre//Sabre VObject 4.5.7//EN
CALSCALE:GREGORIAN
BEGIN:VEVENT
UID:sabre-vobject-0eb14ea1-0d51-4acf-b29f-343e759f9caf
DTSTAMP:20260423T104737Z
SUMMARY:Film und Gesprächsrunde mit Pfr. Herbert Kohler
DESCRIPTION:https://www.katholisch-neuburg.de/film-und-gespraechsrunde-mit-
 pfr-herbert-kohler_id3377
DTSTART;TZID=Europe/Berlin:20240228T190000
LOCATION:Pfarrsaal Heilig Geist\, \, 86633 Neuburg
END:VEVENT
END:VCALENDAR
