BEGIN:VCALENDAR
VERSION:2.0
PRODID:-//Sabre//Sabre VObject 4.5.7//EN
CALSCALE:GREGORIAN
BEGIN:VEVENT
UID:sabre-vobject-a2e07d38-7781-4670-9000-1d2544d74fad
DTSTAMP:20260422T110715Z
SUMMARY:Zeit für Dich – Zeit für Stille
DESCRIPTION:https://www.katholisch-neuburg.de/zeit-fuer-dich-zeit-fuer-stil
 le_id3282
DTSTART;TZID=Europe/Berlin:20251128T183000
LOCATION:Stadtpfarrkirche St. Peter\, \, 86633 Neuburg
END:VEVENT
END:VCALENDAR
