BEGIN:VCALENDAR
VERSION:2.0
PRODID:-//Sabre//Sabre VObject 4.5.7//EN
CALSCALE:GREGORIAN
BEGIN:VEVENT
UID:sabre-vobject-1a1d1bd6-5717-4a7b-929e-54f7829cb718
DTSTAMP:20260419T221134Z
SUMMARY:Information zur Firmvorbereitung für alle Firmbewerber
DESCRIPTION:https://www.katholisch-neuburg.de/information-zur-firmvorbereit
 ung-fuer-alle-firmbewerber_id3265
DTSTART;TZID=Europe/Berlin:20251112T160000
LOCATION:Pfarrsaal St. Peter\, \, 86633 Neuburg
END:VEVENT
END:VCALENDAR
