BEGIN:VCALENDAR
VERSION:2.0
PRODID:-//Sabre//Sabre VObject 4.5.7//EN
CALSCALE:GREGORIAN
BEGIN:VEVENT
UID:sabre-vobject-b773f419-0694-4ac0-9b7f-0bc7d4d416e9
DTSTAMP:20260418T022326Z
SUMMARY:Martinsfeier in Sehensand
DESCRIPTION:https://www.katholisch-neuburg.de/martinsfeier-in-sehensand_id3
 251
DTSTART;TZID=Europe/Berlin:20251109T170000
LOCATION:Pfarrkirche St. Stephanus\, \, 86633 Sehensand
END:VEVENT
END:VCALENDAR
