BEGIN:VCALENDAR
VERSION:2.0
PRODID:-//Sabre//Sabre VObject 4.5.7//EN
CALSCALE:GREGORIAN
BEGIN:VEVENT
UID:sabre-vobject-6e5307a1-91cb-41e3-a012-0801f425ad7f
DTSTAMP:20260419T165912Z
SUMMARY:Martinsspiel auf dem Karlsplatz
DESCRIPTION:https://www.katholisch-neuburg.de/martinsspiel-auf-dem-karlspla
 tz_id3250
DTSTART;TZID=Europe/Berlin:20251109T170000
LOCATION:Hofkirche\, \, 86633 Neuburg
END:VEVENT
END:VCALENDAR
