BEGIN:VCALENDAR
VERSION:2.0
PRODID:-//Sabre//Sabre VObject 4.5.7//EN
CALSCALE:GREGORIAN
BEGIN:VEVENT
UID:sabre-vobject-4d1eb91c-2edd-4ff0-a4f3-4c7ddae61eca
DTSTAMP:20260419T115720Z
SUMMARY:Abendmesse in der Fürstengruft
DESCRIPTION:https://www.katholisch-neuburg.de/abendmesse-in-der-fuerstengru
 ft_id3237
DTSTART;TZID=Europe/Berlin:20251106T180000
LOCATION:Hofkirche\, \, 86633 Neuburg
END:VEVENT
END:VCALENDAR
