BEGIN:VCALENDAR
VERSION:2.0
PRODID:-//Sabre//Sabre VObject 4.5.7//EN
CALSCALE:GREGORIAN
BEGIN:VEVENT
UID:sabre-vobject-8774bf2a-865f-4b40-8f76-495366423fb1
DTSTAMP:20260422T180141Z
SUMMARY:Frühstück für unsere Senioren
DESCRIPTION:https://www.katholisch-neuburg.de/fruehstueck-fuer-unsere-senio
 ren_id3199
DTSTART;TZID=Europe/Berlin:20250129T094500
LOCATION:Pfarrsaal Heilig Geist\, \, 86633 Neuburg
END:VEVENT
END:VCALENDAR
