BEGIN:VCALENDAR
VERSION:2.0
PRODID:-//Sabre//Sabre VObject 4.5.7//EN
CALSCALE:GREGORIAN
BEGIN:VEVENT
UID:sabre-vobject-927e167e-0045-4a41-b2cc-65f21a5e21bf
DTSTAMP:20260423T162955Z
SUMMARY:Kath. Frauenbund Neuburg: Herbstfest
DESCRIPTION:https://www.katholisch-neuburg.de/kath-frauenbund-neuburg-herbs
 tfest_id3180
DTSTART;TZID=Europe/Berlin:20241008T180000
LOCATION:Pfarrheim / Jugendheim Feldkirchen\, \, 86633 Neuburg a d Donau
END:VEVENT
END:VCALENDAR
