BEGIN:VCALENDAR
VERSION:2.0
PRODID:-//Sabre//Sabre VObject 4.5.7//EN
CALSCALE:GREGORIAN
BEGIN:VEVENT
UID:sabre-vobject-f7dac126-596e-4435-802d-ab0b16363684
DTSTAMP:20260422T143117Z
SUMMARY:Schafkopfturnier in Hl. Geist
DESCRIPTION:https://www.katholisch-neuburg.de/schafkopfturnier-in-hl-geist_
 id3029
DTSTART;TZID=Europe/Berlin:20251121T190000
LOCATION:Pfarrsaal Heilig Geist\, \, 86633 Neuburg
END:VEVENT
END:VCALENDAR
